BEGIN:VCALENDAR
VERSION:2.0
PRODID:spatie/icalendar-generator
DESCRIPTION:Events from Hillsboro Trap and Skeet Club
X-WR-CALDESC:Events from Hillsboro Trap and Skeet Club
REFRESH-INTERVAL;VALUE=DURATION:PT1440M
X-PUBLISHED-TTL:PT1440M
BEGIN:VTIMEZONE
TZID:Etc/GMT+8
BEGIN:STANDARD
DTSTART:20250722T120100Z
TZOFFSETFROM:-0800
TZOFFSETTO:-0800
END:STANDARD
END:VTIMEZONE
BEGIN:VTIMEZONE
TZID:UTC
BEGIN:STANDARD
DTSTART:20250727T155015Z
TZOFFSETFROM:+0000
TZOFFSETTO:+0000
END:STANDARD
END:VTIMEZONE
BEGIN:VEVENT
UID:2313-58
DTSTAMP:20260423T155015Z
SUMMARY:5-Stand Open
LOCATION:Hillsboro Trap and Skeet 33295 NW Wren Rd  Hillsboro OR
ORGANIZER;CN=scott:MAILTO:s.d.wagar@comcast.net
RRULE:FREQ=WEEKLY;UNTIL=20260425T000000Z
DTSTART;TZID=Etc/GMT+8:20260418T120100
DTEND;TZID=Etc/GMT+8:20260418T160000
X-ALT-DESC;FMTTYPE=TEXT/HTML:
CATEGORIES:5-Stand Open
URL;VALUE=URI:https://www.hillsborotrapandskeet.org/mc-events/5-stand-open/
 ?mc_id=2313
METHOD:PUBLISH
END:VEVENT
END:VCALENDAR