BEGIN:VCALENDAR
VERSION:2.0
PRODID:spatie/icalendar-generator
DESCRIPTION:Events from Hillsboro Trap and Skeet Club
X-WR-CALDESC:Events from Hillsboro Trap and Skeet Club
REFRESH-INTERVAL;VALUE=DURATION:PT1440M
X-PUBLISHED-TTL:PT1440M
BEGIN:VTIMEZONE
TZID:Etc/GMT+8
BEGIN:STANDARD
DTSTART:20250709T090000Z
TZOFFSETFROM:-0800
TZOFFSETTO:-0800
END:STANDARD
END:VTIMEZONE
BEGIN:VTIMEZONE
TZID:UTC
BEGIN:STANDARD
DTSTART:20250727T143319Z
TZOFFSETFROM:+0000
TZOFFSETTO:+0000
END:STANDARD
END:VTIMEZONE
BEGIN:VEVENT
UID:2245-53
DTSTAMP:20260423T143319Z
SUMMARY:Closed for the Holiday
LOCATION:Hillsboro Trap and Skeet 33295 NW Wren Rd  Hillsboro OR
ORGANIZER;CN=scott:MAILTO:s.d.wagar@comcast.net
DTSTART;TZID=Etc/GMT+8:20260405T090000
DTEND;TZID=Etc/GMT+8:20260405T210000
X-ALT-DESC;FMTTYPE=TEXT/HTML:
CATEGORIES:Club Closed
URL;VALUE=URI:https://www.hillsborotrapandskeet.org/mc-events/closed-for-th
 e-holiday/
METHOD:PUBLISH
END:VEVENT
END:VCALENDAR