BEGIN:VCALENDAR
VERSION:2.0
PRODID:spatie/icalendar-generator
DESCRIPTION:Events from Hillsboro Trap and Skeet Club
X-WR-CALDESC:Events from Hillsboro Trap and Skeet Club
REFRESH-INTERVAL;VALUE=DURATION:PT1440M
X-PUBLISHED-TTL:PT1440M
BEGIN:VTIMEZONE
TZID:Etc/GMT+8
BEGIN:STANDARD
DTSTART:20250726T170000Z
TZOFFSETFROM:-0800
TZOFFSETTO:-0800
END:STANDARD
END:VTIMEZONE
BEGIN:VTIMEZONE
TZID:UTC
BEGIN:STANDARD
DTSTART:20250727T142935Z
TZOFFSETFROM:+0000
TZOFFSETTO:+0000
END:STANDARD
END:VTIMEZONE
BEGIN:VEVENT
UID:2322-20
DTSTAMP:20260423T142935Z
SUMMARY:Skeet League
LOCATION:Hillsboro Trap and Skeet 33295 NW Wren Rd  Hillsboro OR
ORGANIZER;CN=scott:MAILTO:s.d.wagar@comcast.net
RRULE:FREQ=WEEKLY;UNTIL=20230329T000000Z
DTSTART;TZID=Etc/GMT+8:20260422T170000
DTEND;TZID=Etc/GMT+8:20260422T193000
X-ALT-DESC;FMTTYPE=TEXT/HTML:
CATEGORIES:Skeet League
URL;VALUE=URI:https://www.hillsborotrapandskeet.org/mc-events/skeet-league/
 ?mc_id=2322
METHOD:PUBLISH
END:VEVENT
END:VCALENDAR