BEGIN:VCALENDAR
VERSION:2.0
PRODID:spatie/icalendar-generator
DESCRIPTION:Events from Hillsboro Trap and Skeet Club
X-WR-CALDESC:Events from Hillsboro Trap and Skeet Club
REFRESH-INTERVAL;VALUE=DURATION:PT1440M
X-PUBLISHED-TTL:PT1440M
BEGIN:VTIMEZONE
TZID:Etc/GMT+8
BEGIN:STANDARD
DTSTART:20250813T100000Z
TZOFFSETFROM:-0800
TZOFFSETTO:-0800
END:STANDARD
END:VTIMEZONE
BEGIN:VTIMEZONE
TZID:UTC
BEGIN:STANDARD
DTSTART:20250727T143021Z
TZOFFSETFROM:+0000
TZOFFSETTO:+0000
END:STANDARD
END:VTIMEZONE
BEGIN:VEVENT
UID:1912-9
DTSTAMP:20260423T143021Z
SUMMARY:Open to the Public - Sun
LOCATION:Hillsboro Trap and Skeet 33295 NW Wren Rd  Hillsboro OR
ORGANIZER;CN=scott:MAILTO:s.d.wagar@comcast.net
RRULE:FREQ=WEEKLY;UNTIL=20261227T000000Z
DTSTART;TZID=Etc/GMT+8:20260510T100000
DTEND;TZID=Etc/GMT+8:20260510T160000
X-ALT-DESC;FMTTYPE=TEXT/HTML:Come out and hone your skills.
CATEGORIES:Club Open
URL;VALUE=URI:https://www.hillsborotrapandskeet.org/mc-events/open-to-the-p
 ublic-sun/?mc_id=1912
METHOD:PUBLISH
END:VEVENT
END:VCALENDAR