BEGIN:VCALENDAR
VERSION:2.0
PRODID:spatie/icalendar-generator
DESCRIPTION:Events from Hillsboro Trap and Skeet Club
X-WR-CALDESC:Events from Hillsboro Trap and Skeet Club
REFRESH-INTERVAL;VALUE=DURATION:PT1440M
X-PUBLISHED-TTL:PT1440M
BEGIN:VTIMEZONE
TZID:Etc/GMT+8
BEGIN:STANDARD
DTSTART:20250802T100000Z
TZOFFSETFROM:-0800
TZOFFSETTO:-0800
END:STANDARD
END:VTIMEZONE
BEGIN:VTIMEZONE
TZID:UTC
BEGIN:STANDARD
DTSTART:20250727T143504Z
TZOFFSETFROM:+0000
TZOFFSETTO:+0000
END:STANDARD
END:VTIMEZONE
BEGIN:VEVENT
UID:1688-6
DTSTAMP:20260423T143504Z
SUMMARY:Open to the Public - Wed
LOCATION:Hillsboro Trap and Skeet 33295 NW Wren Rd  Hillsboro OR
ORGANIZER;CN=scott:MAILTO:s.d.wagar@comcast.net
RRULE:FREQ=WEEKLY;UNTIL=20261230T000000Z
DTSTART;TZID=Etc/GMT+8:20260429T100000
DTEND;TZID=Etc/GMT+8:20260429T200000
X-ALT-DESC;FMTTYPE=TEXT/HTML:<p>Come out and shoot a practice round or two</p>\n
CATEGORIES:Club Open
URL;VALUE=URI:https://www.hillsborotrapandskeet.org/mc-events/open-to-the-p
 ublic-wed/?mc_id=1688
METHOD:PUBLISH
END:VEVENT
END:VCALENDAR