BEGIN:VCALENDAR
VERSION:2.0
PRODID:spatie/icalendar-generator
DESCRIPTION:Events from Hillsboro Trap and Skeet Club
X-WR-CALDESC:Events from Hillsboro Trap and Skeet Club
REFRESH-INTERVAL;VALUE=DURATION:PT1440M
X-PUBLISHED-TTL:PT1440M
BEGIN:VTIMEZONE
TZID:Etc/GMT+8
BEGIN:STANDARD
DTSTART:20250115T090000Z
TZOFFSETFROM:-0800
TZOFFSETTO:-0800
END:STANDARD
END:VTIMEZONE
BEGIN:VTIMEZONE
TZID:UTC
BEGIN:STANDARD
DTSTART:20250727T155352Z
TZOFFSETFROM:+0000
TZOFFSETTO:+0000
END:STANDARD
END:VTIMEZONE
BEGIN:VEVENT
UID:1316-59
DTSTAMP:20260423T155352Z
SUMMARY:2025-26 Tite Wad 250
LOCATION:Hillsboro Trap and Skeet 33295 NW Wren Rd  Hillsboro OR
ORGANIZER;CN=scott:MAILTO:s.d.wagar@comcast.net
DTSTART;TZID=Etc/GMT+8:20251012T090000
DTEND;TZID=Etc/GMT+8:20251012T160000
X-ALT-DESC;FMTTYPE=TEXT/HTML:
CATEGORIES:Tite Wad
URL;VALUE=URI:https://www.hillsborotrapandskeet.org/mc-events/2025-26-tite-
 wad-250/
METHOD:PUBLISH
END:VEVENT
END:VCALENDAR